BEGIN:VCALENDAR
VERSION:2.0
PRODID:icalendar-ruby
CALSCALE:GREGORIAN
METHOD:PUBLISH
BEGIN:VEVENT
DTSTAMP:20260422T103536Z
UID:11-912083@cwc.ws
DTSTART:20261011T140000Z
DTEND:20261011T150000Z
CLASS:PUBLIC
CREATED:20260421T211256
DESCRIPTION:Join us for engaging worship\, transformative messages\, and co
 nnections with a wonderful community. A foundational discipleship program 
 is available for children of all ages in a safe\, clean environment with g
 reat leaders. \nThere is no dress code\; come as you are! See you on Sund
 ay.
LAST-MODIFIED:20260421T211256
LOCATION:2390 Union Cross Rd. Winston Salem\, NC 27107
SUMMARY:Sunday Worship
URL;VALUE=URI:https://www.cwc.ws/events/sunday-worship/2026-10-11
ATTACH;FILENAME=IMG_9726_jpg.JPG;FMTTYPE=image/jpeg:https://dq5pwpg1q8ru0.c
 loudfront.net/2025/03/03/17/55/24/fb883271-36f5-4979-93ca-1ca1e8bfd19b/IMG
 _9726_jpg.JPG
ATTACH;FILENAME=IMG_0551.JPG;FMTTYPE=image/jpeg:https://dq5pwpg1q8ru0.cloud
 front.net/2025/03/03/17/55/24/efe0b8ab-b8b1-45eb-b25b-870d5692f2e3/IMG_055
 1.JPG
ATTACH;FILENAME=IMG_9859.JPG;FMTTYPE=image/jpeg:https://dq5pwpg1q8ru0.cloud
 front.net/2025/03/03/17/55/24/953b6734-5032-42ec-afce-53684d29ac92/IMG_985
 9.JPG
ATTACH;FILENAME=IMG_9846.JPG;FMTTYPE=image/jpeg:https://dq5pwpg1q8ru0.cloud
 front.net/2025/03/03/17/55/25/443d1cf4-4075-496f-bc10-dee9a1e1ab7a/IMG_984
 6.JPG
ATTACH;FILENAME=IMG_9907.JPG;FMTTYPE=image/jpeg:https://dq5pwpg1q8ru0.cloud
 front.net/2025/03/03/17/55/25/84da6688-8667-4841-ab98-fe6b2656506b/IMG_990
 7.JPG
END:VEVENT
END:VCALENDAR
